BEGIN:VCALENDAR
VERSION:2.0
PRODID:SchoolNow
CALSCALE:GREGORIAN
BEGIN:VEVENT
UID:9dce2490-7a61-11ed-8d20-0e2ae215655b
DTSTAMP:20221212T211233Z
SUMMARY:HOA Meeting - Dec. 13th
LOCATION:Activity Center
URL;VALUE=URI:https://www.wildernesslakecdd.org/calendar/3641851/hoa-meetin
 g-dec-13th
DTSTART:20221213T233000Z
DTEND:20221214T013000Z
END:VEVENT
END:VCALENDAR
