BEGIN:VCALENDAR
VERSION:2.0
PRODID:SchoolNow
CALSCALE:GREGORIAN
BEGIN:VEVENT
UID:7ba16220-698a-11ed-b1e0-0a8935f946cd
DTSTAMP:20221212T211824Z
SUMMARY:Merry Little Christmas Party
URL;VALUE=URI:https://www.wildernesslakecdd.org/calendar/3619776/merry-litt
 le-christmas-party
DTSTART:20221218T190000Z
DTEND:20221218T210000Z
END:VEVENT
END:VCALENDAR
