BEGIN:VCALENDAR
VERSION:2.0
PRODID:SchoolNow
CALSCALE:GREGORIAN
BEGIN:VEVENT
UID:5d9ed2d0-698a-11ed-bd10-0a8935f946cd
DTSTAMP:20221121T105051Z
SUMMARY:Turkey Trot
URL;VALUE=URI:https://www.wildernesslakecdd.org/calendar/3619775/turkey-tro
 t
DTSTART:20221124T124500Z
DTEND:20221124T134500Z
END:VEVENT
END:VCALENDAR
