BEGIN:VCALENDAR
VERSION:2.0
PRODID:SchoolNow
CALSCALE:GREGORIAN
BEGIN:VEVENT
UID:43186840-698a-11ed-b0ee-0a8935f946cd
DTSTAMP:20221121T105007Z
SUMMARY:Pre-New Year’s Celebration
URL;VALUE=URI:https://www.wildernesslakecdd.org/calendar/3619774/pre-new-ye
 ar-s-celebration
DTSTART:20221230T233000Z
DTEND:20221231T013000Z
END:VEVENT
END:VCALENDAR
