BEGIN:VCALENDAR
VERSION:2.0
PRODID:SchoolNow
CALSCALE:GREGORIAN
BEGIN:VEVENT
UID:99acf93e-49a3-11ed-bd6b-0ac3c99b3d55
DTSTAMP:20221212T211105Z
SUMMARY:ARC Meeting - Dec. 2022
LOCATION:Activities Center
URL;VALUE=URI:https://www.wildernesslakecdd.org/calendar/3509339/arc-meetin
 g-dec-2022
DTSTART:20221212T233000Z
DTEND:20221213T010000Z
END:VEVENT
END:VCALENDAR
