BEGIN:VCALENDAR
VERSION:2.0
PRODID:SchoolNow
CALSCALE:GREGORIAN
BEGIN:VEVENT
UID:8aedfdd0-49a3-11ed-8e08-0ac3c99b3d55
DTSTAMP:20221011T212226Z
SUMMARY:ARC Meeting - Oct. 2022
LOCATION:Activities Center
URL;VALUE=URI:https://www.wildernesslakecdd.org/calendar/3509338/arc-meetin
 g-oct-2022
DTSTART:20221024T220000Z
DTEND:20221024T233000Z
END:VEVENT
END:VCALENDAR
