BEGIN:VCALENDAR
VERSION:2.0
PRODID:SchoolNow
CALSCALE:GREGORIAN
BEGIN:VEVENT
UID:d641a55e-4578-11ed-a36b-0a1be662afd9
DTSTAMP:20221006T131441Z
SUMMARY:CDD Continuation Meeting - Oct. 2022
LOCATION:The Preserve at Wilderness Lake Lodge\, located at 21320 Wildernes
 s Lake Boulevard\, Land O' Lakes\, FL 34637.
URL;VALUE=URI:https://www.wildernesslakecdd.org/calendar/3488834/cdd-contin
 uation-meeting-oct-2022
DTSTART:20221011T170000Z
DTEND:20221011T203000Z
END:VEVENT
END:VCALENDAR
