BEGIN:VCALENDAR
VERSION:2.0
PRODID:SchoolNow
CALSCALE:GREGORIAN
BEGIN:VEVENT
UID:59bfae96-3168-11ed-9fd2-0e06ffff066d
DTSTAMP:20220911T002617Z
SUMMARY:Walking Toning Class - Dec. 28th
URL;VALUE=URI:https://www.wildernesslakecdd.org/calendar/3373522/walking-to
 ning-class-dec-28th
DTSTART:20221228T143000Z
DTEND:20221228T154500Z
END:VEVENT
END:VCALENDAR
