BEGIN:VCALENDAR
VERSION:2.0
PRODID:SchoolNow
CALSCALE:GREGORIAN
BEGIN:VEVENT
UID:4cf2c432-3168-11ed-b49f-0e06ffff066d
DTSTAMP:20220911T002555Z
SUMMARY:Walking Toning Class - Dec. 23rd
URL;VALUE=URI:https://www.wildernesslakecdd.org/calendar/3373521/walking-to
 ning-class-dec-23rd
DTSTART:20221223T143000Z
DTEND:20221223T154500Z
END:VEVENT
END:VCALENDAR
