BEGIN:VCALENDAR
VERSION:2.0
PRODID:SchoolNow
CALSCALE:GREGORIAN
BEGIN:VEVENT
UID:3e4cbc76-3168-11ed-b6d4-0e06ffff066d
DTSTAMP:20220911T002530Z
SUMMARY:Walking Toning Class - Dec. 21st
URL;VALUE=URI:https://www.wildernesslakecdd.org/calendar/3373520/walking-to
 ning-class-dec-21st
DTSTART:20221221T143000Z
DTEND:20221221T154500Z
END:VEVENT
END:VCALENDAR
