BEGIN:VCALENDAR
VERSION:2.0
PRODID:SchoolNow
CALSCALE:GREGORIAN
BEGIN:VEVENT
UID:31747e9e-3168-11ed-9d51-0e06ffff066d
DTSTAMP:20220911T002509Z
SUMMARY:Walking Toning Class - Dec. 19th
URL;VALUE=URI:https://www.wildernesslakecdd.org/calendar/3373519/walking-to
 ning-class-dec-19th
DTSTART:20221219T143000Z
DTEND:20221219T154500Z
END:VEVENT
END:VCALENDAR
