BEGIN:VCALENDAR
VERSION:2.0
PRODID:SchoolNow
CALSCALE:GREGORIAN
BEGIN:VEVENT
UID:16282460-3168-11ed-853d-0e06ffff066d
DTSTAMP:20220911T002440Z
SUMMARY:Walking Toning Class - Dec. 16th
URL;VALUE=URI:https://www.wildernesslakecdd.org/calendar/3373518/walking-to
 ning-class-dec-16th
DTSTART:20221216T143000Z
DTEND:20221216T154500Z
END:VEVENT
END:VCALENDAR
