BEGIN:VCALENDAR
VERSION:2.0
PRODID:SchoolNow
CALSCALE:GREGORIAN
BEGIN:VEVENT
UID:03ae219a-3168-11ed-9812-0e06ffff066d
DTSTAMP:20220911T002352Z
SUMMARY:Walking Toning Class - Dec. 12th
URL;VALUE=URI:https://www.wildernesslakecdd.org/calendar/3373516/walking-to
 ning-class-dec-12th
DTSTART:20221212T143000Z
DTEND:20221212T154500Z
END:VEVENT
END:VCALENDAR
