BEGIN:VCALENDAR
VERSION:2.0
PRODID:SchoolNow
CALSCALE:GREGORIAN
BEGIN:VEVENT
UID:f8104c78-3167-11ed-afbd-0e06ffff066d
DTSTAMP:20220911T002333Z
SUMMARY:Walking Toning Class - Dec. 9th
URL;VALUE=URI:https://www.wildernesslakecdd.org/calendar/3373515/walking-to
 ning-class-dec-9th
DTSTART:20221209T143000Z
DTEND:20221209T154500Z
END:VEVENT
END:VCALENDAR
