BEGIN:VCALENDAR
VERSION:2.0
PRODID:SchoolNow
CALSCALE:GREGORIAN
BEGIN:VEVENT
UID:e9ec24a0-3167-11ed-bdfb-0e06ffff066d
DTSTAMP:20220911T002309Z
SUMMARY:Walking Toning Class - Dec. 7th
URL;VALUE=URI:https://www.wildernesslakecdd.org/calendar/3373514/walking-to
 ning-class-dec-7th
DTSTART:20221207T143000Z
DTEND:20221207T154500Z
END:VEVENT
END:VCALENDAR
