BEGIN:VCALENDAR
VERSION:2.0
PRODID:SchoolNow
CALSCALE:GREGORIAN
BEGIN:VEVENT
UID:8ce3c632-3167-11ed-a7bc-0e06ffff066d
DTSTAMP:20220911T002033Z
SUMMARY:Walking Toning Class - Dec. 2nd
URL;VALUE=URI:https://www.wildernesslakecdd.org/calendar/3373512/walking-to
 ning-class-dec-2nd
DTSTART:20221202T143000Z
DTEND:20221202T154500Z
END:VEVENT
END:VCALENDAR
