BEGIN:VCALENDAR
VERSION:2.0
PRODID:SchoolNow
CALSCALE:GREGORIAN
BEGIN:VEVENT
UID:5d30f572-3167-11ed-8961-0e06ffff066d
DTSTAMP:20220911T001913Z
SUMMARY:Walking Toning Class - Nov. 28th
URL;VALUE=URI:https://www.wildernesslakecdd.org/calendar/3373510/walking-to
 ning-class-nov-28th
DTSTART:20221128T143000Z
DTEND:20221128T154500Z
END:VEVENT
END:VCALENDAR
