BEGIN:VCALENDAR
VERSION:2.0
PRODID:SchoolNow
CALSCALE:GREGORIAN
BEGIN:VEVENT
UID:40cbbbc4-3167-11ed-b371-0e06ffff066d
DTSTAMP:20220911T001825Z
SUMMARY:Walking Toning Class - Nov. 25th
URL;VALUE=URI:https://www.wildernesslakecdd.org/calendar/3373509/walking-to
 ning-class-nov-25th
DTSTART:20221125T143000Z
DTEND:20221125T154500Z
END:VEVENT
END:VCALENDAR
