BEGIN:VCALENDAR
VERSION:2.0
PRODID:SchoolNow
CALSCALE:GREGORIAN
BEGIN:VEVENT
UID:33fc6b82-3167-11ed-adcd-0e06ffff066d
DTSTAMP:20220911T001804Z
SUMMARY:Walking Toning Class - Nov. 23rd
URL;VALUE=URI:https://www.wildernesslakecdd.org/calendar/3373508/walking-to
 ning-class-nov-23rd
DTSTART:20221123T143000Z
DTEND:20221123T154500Z
END:VEVENT
END:VCALENDAR
