BEGIN:VCALENDAR
VERSION:2.0
PRODID:SchoolNow
CALSCALE:GREGORIAN
BEGIN:VEVENT
UID:25b5f52a-3167-11ed-ab96-0e06ffff066d
DTSTAMP:20220911T001740Z
SUMMARY:Walking Toning Class - Nov. 21st
URL;VALUE=URI:https://www.wildernesslakecdd.org/calendar/3373507/walking-to
 ning-class-nov-21st
DTSTART:20221121T143000Z
DTEND:20221121T154500Z
END:VEVENT
END:VCALENDAR
