BEGIN:VCALENDAR
VERSION:2.0
PRODID:SchoolNow
CALSCALE:GREGORIAN
BEGIN:VEVENT
UID:0c53646e-3167-11ed-bdf2-0e06ffff066d
DTSTAMP:20220911T001657Z
SUMMARY:Walking Toning Class - Nov. 18th
URL;VALUE=URI:https://www.wildernesslakecdd.org/calendar/3373506/walking-to
 ning-class-nov-18th
DTSTART:20221118T143000Z
DTEND:20221118T154500Z
END:VEVENT
END:VCALENDAR
