BEGIN:VCALENDAR
VERSION:2.0
PRODID:SchoolNow
CALSCALE:GREGORIAN
BEGIN:VEVENT
UID:fd22ae46-3166-11ed-bd3c-0e06ffff066d
DTSTAMP:20220911T001632Z
SUMMARY:Walking Toning Class - Nov. 16th
URL;VALUE=URI:https://www.wildernesslakecdd.org/calendar/3373505/walking-to
 ning-class-nov-16th
DTSTART:20221116T143000Z
DTEND:20221116T154500Z
END:VEVENT
END:VCALENDAR
