BEGIN:VCALENDAR
VERSION:2.0
PRODID:SchoolNow
CALSCALE:GREGORIAN
BEGIN:VEVENT
UID:ee75d71a-3166-11ed-9301-0e06ffff066d
DTSTAMP:20220911T001607Z
SUMMARY:Walking Toning Class - Nov. 14th
URL;VALUE=URI:https://www.wildernesslakecdd.org/calendar/3373504/walking-to
 ning-class-nov-14th
DTSTART:20221114T143000Z
DTEND:20221114T154500Z
END:VEVENT
END:VCALENDAR
