BEGIN:VCALENDAR
VERSION:2.0
PRODID:SchoolNow
CALSCALE:GREGORIAN
BEGIN:VEVENT
UID:dfefadd8-3166-11ed-be9e-0e06ffff066d
DTSTAMP:20220911T001543Z
SUMMARY:Walking Toning Class - Nov. 11th
URL;VALUE=URI:https://www.wildernesslakecdd.org/calendar/3373503/walking-to
 ning-class-nov-11th
DTSTART:20221111T143000Z
DTEND:20221111T154500Z
END:VEVENT
END:VCALENDAR
