BEGIN:VCALENDAR
VERSION:2.0
PRODID:SchoolNow
CALSCALE:GREGORIAN
BEGIN:VEVENT
UID:d417cd1a-3166-11ed-b64c-0e06ffff066d
DTSTAMP:20220911T001523Z
SUMMARY:Walking Toning Class - Nov. 9th
URL;VALUE=URI:https://www.wildernesslakecdd.org/calendar/3373502/walking-to
 ning-class-nov-9th
DTSTART:20221109T143000Z
DTEND:20221109T154500Z
END:VEVENT
END:VCALENDAR
