BEGIN:VCALENDAR
VERSION:2.0
PRODID:SchoolNow
CALSCALE:GREGORIAN
BEGIN:VEVENT
UID:c60e0c5c-3166-11ed-93f6-0e06ffff066d
DTSTAMP:20220911T001459Z
SUMMARY:Walking Toning Class - Nov. 7th
URL;VALUE=URI:https://www.wildernesslakecdd.org/calendar/3373501/walking-to
 ning-class-nov-7th
DTSTART:20221107T143000Z
DTEND:20221107T154500Z
END:VEVENT
END:VCALENDAR
