BEGIN:VCALENDAR
VERSION:2.0
PRODID:SchoolNow
CALSCALE:GREGORIAN
BEGIN:VEVENT
UID:bc3d7f00-3166-11ed-98bf-0e06ffff066d
DTSTAMP:20220911T001443Z
SUMMARY:Walking Toning Class - Nov. 4th
URL;VALUE=URI:https://www.wildernesslakecdd.org/calendar/3373500/walking-to
 ning-class-nov-4th
DTSTART:20221104T133000Z
DTEND:20221104T144500Z
END:VEVENT
END:VCALENDAR
