BEGIN:VCALENDAR
VERSION:2.0
PRODID:SchoolNow
CALSCALE:GREGORIAN
BEGIN:VEVENT
UID:a00cb8f0-3166-11ed-8daa-0e06ffff066d
DTSTAMP:20220911T001355Z
SUMMARY:Walking Toning Class - Nov. 2nd
URL;VALUE=URI:https://www.wildernesslakecdd.org/calendar/3373499/walking-to
 ning-class-nov-2nd
DTSTART:20221102T133000Z
DTEND:20221102T144500Z
END:VEVENT
END:VCALENDAR
