BEGIN:VCALENDAR
VERSION:2.0
PRODID:SchoolNow
CALSCALE:GREGORIAN
BEGIN:VEVENT
UID:87f98298-3166-11ed-88a7-0e06ffff066d
DTSTAMP:20220911T001315Z
SUMMARY:Walking Toning Class - Oct. 31st
URL;VALUE=URI:https://www.wildernesslakecdd.org/calendar/3373498/walking-to
 ning-class-oct-31st
DTSTART:20221031T133000Z
DTEND:20221031T144500Z
END:VEVENT
END:VCALENDAR
