BEGIN:VCALENDAR
VERSION:2.0
PRODID:SchoolNow
CALSCALE:GREGORIAN
BEGIN:VEVENT
UID:76bd8d76-3166-11ed-b096-0e06ffff066d
DTSTAMP:20220911T001246Z
SUMMARY:Walking Toning Class - Oct. 17th
URL;VALUE=URI:https://www.wildernesslakecdd.org/calendar/3373497/walking-to
 ning-class-oct-17th
DTSTART:20221017T133000Z
DTEND:20221017T144500Z
END:VEVENT
END:VCALENDAR
