BEGIN:VCALENDAR
VERSION:2.0
PRODID:SchoolNow
CALSCALE:GREGORIAN
BEGIN:VEVENT
UID:42ac71fa-3166-11ed-ab59-0e06ffff066d
DTSTAMP:20220911T001119Z
SUMMARY:Ginger Bread House
URL;VALUE=URI:https://www.wildernesslakecdd.org/calendar/3373496/ginger-bre
 ad-house
DTSTART:20221221T180000Z
DTEND:20221221T200000Z
END:VEVENT
END:VCALENDAR
