BEGIN:VCALENDAR
VERSION:2.0
PRODID:SchoolNow
CALSCALE:GREGORIAN
BEGIN:VEVENT
UID:23d2edd6-3166-11ed-a426-0e06ffff066d
DTSTAMP:20220911T001027Z
SUMMARY:Best Decorated Holiday House Drive By
URL;VALUE=URI:https://www.wildernesslakecdd.org/calendar/3373495/best-decor
 ated-holiday-house-drive-by
DTSTART:20221215T230000Z
DTEND:20221216T020000Z
END:VEVENT
END:VCALENDAR
