BEGIN:VCALENDAR
VERSION:2.0
PRODID:SchoolNow
CALSCALE:GREGORIAN
BEGIN:VEVENT
UID:02925d8c-3166-11ed-9d36-0e06ffff066d
DTSTAMP:20221212T211906Z
SUMMARY:Lighting of the Menorah
URL;VALUE=URI:https://www.wildernesslakecdd.org/calendar/3373494/lighting-o
 f-the-menorah
DTSTART:20221219T000000Z
DTEND:20221219T010000Z
END:VEVENT
END:VCALENDAR
