BEGIN:VCALENDAR
VERSION:2.0
PRODID:SchoolNow
CALSCALE:GREGORIAN
BEGIN:VEVENT
UID:e2d61484-3165-11ed-ab50-0e06ffff066d
DTSTAMP:20220911T000838Z
SUMMARY:Florida Jazz Express
URL;VALUE=URI:https://www.wildernesslakecdd.org/calendar/3373493/florida-ja
 zz-express
DTSTART:20221105T180000Z
DTEND:20221105T200000Z
END:VEVENT
END:VCALENDAR
