BEGIN:VCALENDAR
VERSION:2.0
PRODID:SchoolNow
CALSCALE:GREGORIAN
BEGIN:VEVENT
UID:be062cca-3165-11ed-a8d4-02c0d22b8e6d
DTSTAMP:20220911T000736Z
SUMMARY:Halloween Costume Parade
URL;VALUE=URI:https://www.wildernesslakecdd.org/calendar/3373492/halloween-
 costume-parade
DTSTART:20221031T210000Z
DTEND:20221101T003000Z
END:VEVENT
END:VCALENDAR
