BEGIN:VCALENDAR
VERSION:2.0
PRODID:SchoolNow
CALSCALE:GREGORIAN
BEGIN:VEVENT
UID:9e7e4d24-3165-11ed-8013-02c0d22b8e6d
DTSTAMP:20220911T000643Z
SUMMARY:Haunted House (Adults)
URL;VALUE=URI:https://www.wildernesslakecdd.org/calendar/3373491/haunted-ho
 use-adults
DTSTART:20221029T230000Z
DTEND:20221030T010000Z
END:VEVENT
END:VCALENDAR
