BEGIN:VCALENDAR
VERSION:2.0
PRODID:SchoolNow
CALSCALE:GREGORIAN
BEGIN:VEVENT
UID:7e96e46c-3165-11ed-9957-02c0d22b8e6d
DTSTAMP:20220911T000550Z
SUMMARY:Haunted House (Children)
URL;VALUE=URI:https://www.wildernesslakecdd.org/calendar/3373490/haunted-ho
 use-children
DTSTART:20221029T213000Z
DTEND:20221029T223000Z
END:VEVENT
END:VCALENDAR
