BEGIN:VCALENDAR
VERSION:2.0
PRODID:SchoolNow
CALSCALE:GREGORIAN
BEGIN:VEVENT
UID:6081a66a-3165-11ed-8b81-02c0d22b8e6d
DTSTAMP:20220911T000459Z
SUMMARY:Haunted House
URL;VALUE=URI:https://www.wildernesslakecdd.org/calendar/3373489/haunted-ho
 use
DTSTART:20221028T230000Z
DTEND:20221029T003000Z
END:VEVENT
END:VCALENDAR
