BEGIN:VCALENDAR
VERSION:2.0
PRODID:SchoolNow
CALSCALE:GREGORIAN
BEGIN:VEVENT
UID:3df0be06-3165-11ed-b83a-02c0d22b8e6d
DTSTAMP:20220911T000401Z
SUMMARY:Oktoberfest
URL;VALUE=URI:https://www.wildernesslakecdd.org/calendar/3373488/oktoberfes
 t
DTSTART:20221021T214500Z
DTEND:20221022T004500Z
END:VEVENT
END:VCALENDAR
