BEGIN:VCALENDAR
VERSION:2.0
PRODID:SchoolNow
CALSCALE:GREGORIAN
BEGIN:VEVENT
UID:0bd361bc-3165-11ed-9da4-02c0d22b8e6d
DTSTAMP:20220911T000237Z
SUMMARY:Art Class w/Mr. Joe - Nov. 12th
URL;VALUE=URI:https://www.wildernesslakecdd.org/calendar/3373487/art-class-
 w-mr-joe-nov-12th
DTSTART:20221112T170000Z
DTEND:20221112T200000Z
END:VEVENT
END:VCALENDAR
