BEGIN:VCALENDAR
VERSION:2.0
PRODID:SchoolNow
CALSCALE:GREGORIAN
BEGIN:VEVENT
UID:f5c2e474-3164-11ed-a911-02c0d22b8e6d
DTSTAMP:20220911T000200Z
SUMMARY:Art Class w/Mr. Joe - Oct. 15th
URL;VALUE=URI:https://www.wildernesslakecdd.org/calendar/3373486/art-class-
 w-mr-joe-oct-15th
DTSTART:20221015T160000Z
DTEND:20221015T190000Z
END:VEVENT
END:VCALENDAR
