BEGIN:VCALENDAR
VERSION:2.0
PRODID:SchoolNow
CALSCALE:GREGORIAN
BEGIN:VEVENT
UID:cd033584-3164-11ed-879c-02c0d22b8e6d
DTSTAMP:20220911T000052Z
SUMMARY:Fall Yard Sale
URL;VALUE=URI:https://www.wildernesslakecdd.org/calendar/3373485/fall-yard-
 sale
DTSTART:20221015T120000Z
DTEND:20221015T160000Z
END:VEVENT
END:VCALENDAR
