BEGIN:VCALENDAR
VERSION:2.0
PRODID:SchoolNow
CALSCALE:GREGORIAN
BEGIN:VEVENT
UID:7c21155a-3164-11ed-bedf-02c0d22b8e6d
DTSTAMP:20220910T235836Z
SUMMARY:Karaoke w/Mr. Ray - Nov. 4th
URL;VALUE=URI:https://www.wildernesslakecdd.org/calendar/3373483/karaoke-w-
 mr-ray-nov-4th
DTSTART:20221104T220000Z
DTEND:20221105T010000Z
END:VEVENT
END:VCALENDAR
