BEGIN:VCALENDAR
VERSION:2.0
PRODID:SchoolNow
CALSCALE:GREGORIAN
BEGIN:VEVENT
UID:63d4fe12-3164-11ed-8aad-02c0d22b8e6d
DTSTAMP:20220910T235755Z
SUMMARY:Karaoke w/Mr. Ray - Oct. 7th
URL;VALUE=URI:https://www.wildernesslakecdd.org/calendar/3373482/karaoke-w-
 mr-ray-oct-7th
DTSTART:20221007T220000Z
DTEND:20221008T010000Z
END:VEVENT
END:VCALENDAR
