BEGIN:VCALENDAR
VERSION:2.0
PRODID:SchoolNow
CALSCALE:GREGORIAN
BEGIN:VEVENT
UID:246e7e60-3164-11ed-b09e-02c0d22b8e6d
DTSTAMP:20220910T235609Z
SUMMARY:Paint & Sip w/Mr. Joe - Nov. 18th
URL;VALUE=URI:https://www.wildernesslakecdd.org/calendar/3373481/paint-sip-
 w-mr-joe-nov-18th
DTSTART:20221118T230000Z
DTEND:20221119T020000Z
END:VEVENT
END:VCALENDAR
