BEGIN:VCALENDAR
VERSION:2.0
PRODID:SchoolNow
CALSCALE:GREGORIAN
BEGIN:VEVENT
UID:0b8bf166-3164-11ed-b40e-02c0d22b8e6d
DTSTAMP:20220910T235527Z
SUMMARY:Paint & Sip w/Mr. Joe - Oct. 14th
URL;VALUE=URI:https://www.wildernesslakecdd.org/calendar/3373480/paint-sip-
 w-mr-joe-oct-14th
DTSTART:20221014T220000Z
DTEND:20221015T010000Z
END:VEVENT
END:VCALENDAR
