BEGIN:VCALENDAR
VERSION:2.0
PRODID:SchoolNow
CALSCALE:GREGORIAN
BEGIN:VEVENT
UID:e34f9630-3163-11ed-92a1-02c0d22b8e6d
DTSTAMP:20220910T235420Z
SUMMARY:Paint & Sip w/Mr. Joe - Sept. 30th
URL;VALUE=URI:https://www.wildernesslakecdd.org/calendar/3373479/paint-sip-
 w-mr-joe-sept-30th
DTSTART:20220930T220000Z
DTEND:20221001T004500Z
END:VEVENT
END:VCALENDAR
