BEGIN:VCALENDAR
VERSION:2.0
PRODID:SchoolNow
CALSCALE:GREGORIAN
BEGIN:VEVENT
UID:be299a18-3163-11ed-a449-02c0d22b8e6d
DTSTAMP:20220910T235318Z
SUMMARY:The Lodge Stand Up Comedy w/James - Dec. 18th
URL;VALUE=URI:https://www.wildernesslakecdd.org/calendar/3373478/the-lodge-
 stand-up-comedy-w-james-dec-18th
DTSTART:20221219T000000Z
DTEND:20221219T020000Z
END:VEVENT
END:VCALENDAR
