BEGIN:VCALENDAR
VERSION:2.0
PRODID:SchoolNow
CALSCALE:GREGORIAN
BEGIN:VEVENT
UID:979657f6-3163-11ed-a7f2-02c0d22b8e6d
DTSTAMP:20220910T235213Z
SUMMARY:The Lodge Stand Up Comedy w/James - Nov. 20th
URL;VALUE=URI:https://www.wildernesslakecdd.org/calendar/3373477/the-lodge-
 stand-up-comedy-w-james-nov-20th
DTSTART:20221121T000000Z
DTEND:20221121T014500Z
END:VEVENT
END:VCALENDAR
