BEGIN:VCALENDAR
VERSION:2.0
PRODID:SchoolNow
CALSCALE:GREGORIAN
BEGIN:VEVENT
UID:7fc97590-3163-11ed-95d3-02c0d22b8e6d
DTSTAMP:20220910T235133Z
SUMMARY:Tennis Class w/Mr. Watson - Nov. 19th
URL;VALUE=URI:https://www.wildernesslakecdd.org/calendar/3373476/tennis-cla
 ss-w-mr-watson-nov-19th
DTSTART:20221119T140000Z
DTEND:20221119T160000Z
END:VEVENT
END:VCALENDAR
